BEGIN:VCALENDAR
VERSION:2.0
PRODID:-//Éditions du Lumignon - ECPv6.7.0//NONSGML v1.0//EN
CALSCALE:GREGORIAN
METHOD:PUBLISH
X-WR-CALNAME:Éditions du Lumignon
X-ORIGINAL-URL:https://editionslumignon.fr
X-WR-CALDESC:Évènements pour Éditions du Lumignon
REFRESH-INTERVAL;VALUE=DURATION:PT1H
X-Robots-Tag:noindex
X-PUBLISHED-TTL:PT1H
BEGIN:VTIMEZONE
TZID:Europe/Paris
BEGIN:DAYLIGHT
TZOFFSETFROM:+0100
TZOFFSETTO:+0200
TZNAME:CEST
DTSTART:20260329T010000
END:DAYLIGHT
BEGIN:STANDARD
TZOFFSETFROM:+0200
TZOFFSETTO:+0100
TZNAME:CET
DTSTART:20261025T010000
END:STANDARD
END:VTIMEZONE
BEGIN:VEVENT
DTSTART;VALUE=DATE:20260425
DTEND;VALUE=DATE:20260427
DTSTAMP:20260426T011655
CREATED:20260302T134655Z
LAST-MODIFIED:20260302T140114Z
UID:3875-1777075200-1777247999@editionslumignon.fr
SUMMARY:Festival BD de Perros-Guirec
DESCRIPTION:Les 25 et 26 avril 2026\, le Lumignon sera au festival BD de Perros-Guirec (22) ! Notre dernier passage à ce chouette festival remonte à de nombreuses années : c’est l’occasion de découvrir nos parutions.\nAnaïs Goldemberg et Clémentine Ferry seront en dédicace tout le week-end\, pour signer les Contes Gourmands\, la série Une saison chez les sorcières\, les Almanachs… et pour grignoter des kouign-amanns locaux\, bien sûr. \nAuteurs en dédicace\, expositions\, exposants et rochers roses : le programme du week-end est à découvrir sur le site du festival.
URL:https://editionslumignon.fr/evenement/festival-bd-de-perros-guirec/
LOCATION:Perros-Guirec\, Perros-Guirec\, 22700\, France
CATEGORIES:Salon et Festival
ATTACH;FMTTYPE=image/jpeg:https://editionslumignon.fr/wp-content/uploads/2026/03/afficheperrso.jpg
END:VEVENT
END:VCALENDAR